BEGIN:VCALENDAR
VERSION:2.0
PRODID:-//Kunst &amp; Kultur im Landkreis Augsburg - ECPv6.15.20//NONSGML v1.0//EN
CALSCALE:GREGORIAN
METHOD:PUBLISH
X-ORIGINAL-URL:https://landkreis-augsburg-kultur.de
X-WR-CALDESC:Veranstaltungen für Kunst &amp; Kultur im Landkreis Augsburg
REFRESH-INTERVAL;VALUE=DURATION:PT1H
X-Robots-Tag:noindex
X-PUBLISHED-TTL:PT1H
BEGIN:VTIMEZONE
TZID:Europe/Berlin
BEGIN:DAYLIGHT
TZOFFSETFROM:+0100
TZOFFSETTO:+0200
TZNAME:CEST
DTSTART:20230326T010000
END:DAYLIGHT
BEGIN:STANDARD
TZOFFSETFROM:+0200
TZOFFSETTO:+0100
TZNAME:CET
DTSTART:20231029T010000
END:STANDARD
BEGIN:DAYLIGHT
TZOFFSETFROM:+0100
TZOFFSETTO:+0200
TZNAME:CEST
DTSTART:20240331T010000
END:DAYLIGHT
BEGIN:STANDARD
TZOFFSETFROM:+0200
TZOFFSETTO:+0100
TZNAME:CET
DTSTART:20241027T010000
END:STANDARD
BEGIN:DAYLIGHT
TZOFFSETFROM:+0100
TZOFFSETTO:+0200
TZNAME:CEST
DTSTART:20250330T010000
END:DAYLIGHT
BEGIN:STANDARD
TZOFFSETFROM:+0200
TZOFFSETTO:+0100
TZNAME:CET
DTSTART:20251026T010000
END:STANDARD
END:VTIMEZONE
BEGIN:VEVENT
DTSTART;TZID=Europe/Berlin:20241022T090000
DTEND;TZID=Europe/Berlin:20241022T110000
DTSTAMP:20260421T170215
CREATED:20240826T134411Z
LAST-MODIFIED:20241219T103247Z
UID:10000020-1729587600-1729594800@landkreis-augsburg-kultur.de
SUMMARY:Tischtheater für Kindergartengruppen I Großaitingen
DESCRIPTION:Die Bücherei St. Nikolaus Großaitingen lädt am 22. Oktober 2024 vormittags Kindergartengruppen zu sich ein. Für die Gruppen werden zwischen 9 und 11 Uhr halbstündlich Vorführungen mit dem Kamishibai-Tischtheater veranstaltet. \nAnmeldung unter buecherei@grossaitingen.org \nZielgruppe: Kinder 3 bis 6 Jahre mit Begleitung \n____________________________________________________________________________________________________________________ \nAbbildung: Blick in die Kinderbuchecke der Bücherei St. Nikolaus Großaitingen\, Foto: Petra Krist
URL:https://landkreis-augsburg-kultur.de/veranstaltung/tischtheater-grossaitingen-dienstag/
LOCATION:Bücherei St. Nikolaus Großaitingen\, Augsburger Straße 1\, 1. Stock\, Großaitingen\, 86845
CATEGORIES:Kinder
ATTACH;FMTTYPE=image/jpeg:https://landkreis-augsburg-kultur.de/wp-content/uploads/2024/08/Kinderecke_Grossaitingen.jpg
ORGANIZER;CN="B%C3%BCcherei St. Nikolaus Gro%C3%9Faitingen":MAILTO:buecherei@grossaitingen.org
END:VEVENT
BEGIN:VEVENT
DTSTART;TZID=Europe/Berlin:20241022T100000
DTEND;TZID=Europe/Berlin:20241022T150000
DTSTAMP:20260421T170215
CREATED:20240826T134403Z
LAST-MODIFIED:20240904T141900Z
UID:10000021-1729591200-1729609200@landkreis-augsburg-kultur.de
SUMMARY:Tag der offenen Büchereitür I Fischach
DESCRIPTION:Tag der offenen Tür am 22. Oktober 2024 von 11 bis 15 Uhr in der Gemeindebücherei St. Michael in Fischach mit bunten Aktivitäten und Angeboten. \nVorlesen für Kinder jeweils um 11 Uhr und um 13.30 Uhr\, Führungen durch die Bücherei mit geschulten Mitarbeitenden\, Kaffee\, Tee und Kuchen\, Glücksrad oder Tombola mit vielen Gewinnen\, Bücher-Flohmarkt\, Angebot einer vergünstigten Bücherei-Mitgliedschaft. \nOhne Anmeldung \nZielgruppe: Alle
URL:https://landkreis-augsburg-kultur.de/veranstaltung/tag-der-offenen-tuer-fischach/
LOCATION:Gemeindebücherei St. Michael\, Hauptstraße 12\, Fischach\, 86850
CATEGORIES:Alle
ATTACH;FMTTYPE=image/jpeg:https://landkreis-augsburg-kultur.de/wp-content/uploads/2024/08/Beitrag-Cover-scaled.jpg
END:VEVENT
BEGIN:VEVENT
DTSTART;TZID=Europe/Berlin:20241022T153000
DTEND;TZID=Europe/Berlin:20241022T170000
DTSTAMP:20260421T170215
CREATED:20240826T134356Z
LAST-MODIFIED:20241219T103239Z
UID:10000023-1729611000-1729616400@landkreis-augsburg-kultur.de
SUMMARY:Tatü-Tata\, die Feuerwehr ist da! I Diedorf
DESCRIPTION:Am 22. Oktober 2024 rückt die Feuerwehr in der Gemeindebücherei Diedorf mit einem Löschfahrzeug an\, liest Geschichten vor und informiert. \nDas wird ein aufregender Nachmittag für unsere Gäste. Am Vorlesenachmittag besuchen uns Mitglieder der Freiwilligen Feuerwehr Diedorf und bringen auch ein Löschfahrzeug mit. Zuerst lesen die Einsatzkräfte spannende Geschichten zum Thema Feuerwehr vor\, anschließend erzählen sie ein wenig von ihren Erlebnissen und geben dann noch wichtige Tipps zum Verhalten im Ernstfall. Im Anschluss dürfen die Kinder natürlich den Einsatzwagen erkunden. (Sollte an diesem Nachmittag ein Großeinsatz nötig sein\, müssen wir leider auf den Feuerwehrwagen verzichten.) \nOhne Anmeldung \nZielgruppe: Kinder ab 5 Jahren mit Begleitung \n____________________________________________________________________________________________________________________ \nAbbildung: Thema Feuerwehr in der Bücherei\, Foto: Veronika Huttner\, Gemeindebücherei Diedorf
URL:https://landkreis-augsburg-kultur.de/veranstaltung/feuerwehr-thementag-diedorf/
LOCATION:Gemeindebücherei Diedorf\, Pfarrsaal\, Marienplatz 3\, Diedorf\, 86420
CATEGORIES:Alle,Familien,Kinder
ATTACH;FMTTYPE=image/jpeg:https://landkreis-augsburg-kultur.de/wp-content/uploads/2024/08/Diedorf_Feuerwehr.jpg
ORGANIZER;CN="Gemeindeb%C3%BCcherei Diedorf":MAILTO:buecherei.diedorf@gmx.de
END:VEVENT
BEGIN:VEVENT
DTSTART;TZID=Europe/Berlin:20241022T153000
DTEND;TZID=Europe/Berlin:20241022T173000
DTSTAMP:20260421T170215
CREATED:20240826T134350Z
LAST-MODIFIED:20240904T141812Z
UID:10000022-1729611000-1729618200@landkreis-augsburg-kultur.de
SUMMARY:Vorlesen für Kinder I Untermeitingen
DESCRIPTION:Am 22. Oktober lädt die Bücherei Untermeitingen zum gemütlichen Vorlesen für Kinder unterm Dach der Bücherei ein. \nNach einem Monat\, in dem die Bücherei geschlossen war\, neue Möbel und eine neue Servicetheke erhielt\, öffnet sie wieder ihre Tür und schlägt ein neues Kapitel auf. Alle sind eingeladen\, die „neue Bücherei“ zu erkunden. Kinder können beim vertrauten Vorlesen zuhören und ihren gemütlichen Kinderbereich unterm Dach der Bücherei entdecken. \nOhne Anmeldung \nZielgruppe: Kinder ab 4 Jahren\, Familien \n____________________________________________________________________________________________________________________ \nAbbildung: Flyer „Vorlesen für Kinder zur Wiedereröffnung der Bücherei“\, © Bücherei Untermeitingen
URL:https://landkreis-augsburg-kultur.de/veranstaltung/vorlesen-untermeitingen/
LOCATION:Bücherei Untermeitingen\, Von-Imhof-Straße 7\, Untermeitingen\, 86836
CATEGORIES:Alle,Familien,Kinder
ATTACH;FMTTYPE=image/jpeg:https://landkreis-augsburg-kultur.de/wp-content/uploads/2024/08/Untermeitingen_Flyer_Vorlesen.jpg
ORGANIZER;CN="B%C3%BCcherei Untermeitingen":MAILTO:buecherei@untermeitingen.de
END:VEVENT
BEGIN:VEVENT
DTSTART;TZID=Europe/Berlin:20241022T190000
DTEND;TZID=Europe/Berlin:20241022T203000
DTSTAMP:20260421T170215
CREATED:20240826T093051Z
LAST-MODIFIED:20240904T141715Z
UID:10000025-1729623600-1729629000@landkreis-augsburg-kultur.de
SUMMARY:„Moorläufer“ – Fantasy-Lesung mit Autor Boris Koch I Gersthofen
DESCRIPTION:Boris Koch liest am 22. Oktober 2024 in der Rotunde des Ballonmuseums Gersthofen aus seinem atmosphärischen Fantasy-Roman „Moorläufer. Im Reich des letzten Drachen“. \n„Moorläufer“\, 2024 für den Seraph nominiert\, ist ein atmosphärischer Roman über Torfstecher\, Alchymie\, Aufbegehren\, Moordiamanten\, die Angst vor dem letzten Drachen\, Liebe\, Verlust und Ehre in einer vom Absolutismus geprägten Fantasywelt. Jeden Tag riskieren die Torfstecher Nebelbruchs ihr Leben für den magischen Torf der Schwarzmoore\, denn hier haust der grausame Nachtwyrm. Als die Schwester des jungen Milan der Bestie zum Opfer fällt\, geben die Eltern ihm die Schuld. Gefangen zwischen Schuldgefühlen und Rachegedanken durchstreift er das Moor – ohne die Wahrheit über sich selbst zu ahnen. \nBoris Koch\, geboren 1973 in Augsburg\, wuchs in Schwabmünchen und Langerringen auf\, leistete Zivildienst in der Kinderpsychiatrie und studierte Geschichte und Literatur in München. Beide Studiengänge brach er zugunsten des Schreibens ab. 2000 zog er nach Berlin\, seit 2015 lebt er mit seiner Partnerin (der Autorin Kathleen Weise) und der gemeinsamen Tochter in Leipzig. Er schreibt Fantastisches und Realistisches\, und textet Comics. Seine Werke wurden mehrfach ausgezeichnet\, zuletzt mit dem Krefelder Preis für Fantastische Literatur\, und in mehrere Sprachen übersetzt. \nAnmeldung unter stadtbibliothek@gersthofen.de \nZielgruppe: Erwachsene und Jugendliche ab 14 Jahren \n____________________________________________________________________________________________________________________ \nAbbildung: Buchcover „Moorläufer. Im Reich des letzten Drachen“\, © Verlagsgruppe Droemer Knaur GmbH & Co. KG
URL:https://landkreis-augsburg-kultur.de/veranstaltung/fantasy-lesung-boris-koch-gersthofen/
LOCATION:Ballonmuseum Gersthofen\, Rotunde\, Bahnhofstraße 12\, Gersthofen\, 86368
CATEGORIES:Erwachsene,Jugendliche,Lesetour
ATTACH;FMTTYPE=image/jpeg:https://landkreis-augsburg-kultur.de/wp-content/uploads/2024/08/Buchcover_Boris-Koch_Moorlaeufer.jpg
ORGANIZER;CN="Stadtbibliothek Gersthofen":MAILTO:stadtbibliothek@gersthofen.de
END:VEVENT
BEGIN:VEVENT
DTSTART;TZID=Europe/Berlin:20241022T190000
DTEND;TZID=Europe/Berlin:20241022T210000
DTSTAMP:20260421T170215
CREATED:20240826T140427Z
LAST-MODIFIED:20240904T141448Z
UID:10000024-1729623600-1729630800@landkreis-augsburg-kultur.de
SUMMARY:Basteln mit Papier mit Elfriede Leutenmayr I Oberschöneberg
DESCRIPTION:Am 22. Oktober 2024 zeigt Elfriede Leutenmayr in der Katholischen öffentlichen Bücherei Oberschöneberg verschiedene Falttechniken mit Papier und alten Büchern. So entstehen kleine Kunstwerke wie Geschenkeschachteln\, Sterne oder andere Deko-Artikel. Material ist vorhanden\, Vorkenntnisse sind nicht erforderlich. \nAnmeldung unter buecherei-oberschoeneberg@web.de oder unter Telefon 08292 1704 \nZielgruppe: Erwachsene \n 
URL:https://landkreis-augsburg-kultur.de/veranstaltung/basteln-mit-papier-oberschoeneberg/
LOCATION:Katholische öffentliche Bücherei Oberschöneberg\, Schulstraße 1 (Alte Schule)\, Dinkelscherben-Oberschöneberg\, 86424
CATEGORIES:Erwachsene
ATTACH;FMTTYPE=image/jpeg:https://landkreis-augsburg-kultur.de/wp-content/uploads/2024/08/Beitrag-Cover-scaled.jpg
ORGANIZER;CN="Katholische %C3%B6ffentliche B%C3%BCcherei Obersch%C3%B6neberg":MAILTO:buecherei-oberschoeneberg@web.de
END:VEVENT
END:VCALENDAR