BEGIN:VCALENDAR
VERSION:2.0
PRODID:-//Kunst &amp; Kultur im Landkreis Augsburg - ECPv6.15.20//NONSGML v1.0//EN
CALSCALE:GREGORIAN
METHOD:PUBLISH
X-WR-CALNAME:Kunst &amp; Kultur im Landkreis Augsburg
X-ORIGINAL-URL:https://landkreis-augsburg-kultur.de
X-WR-CALDESC:Veranstaltungen für Kunst &amp; Kultur im Landkreis Augsburg
REFRESH-INTERVAL;VALUE=DURATION:PT1H
X-Robots-Tag:noindex
X-PUBLISHED-TTL:PT1H
BEGIN:VTIMEZONE
TZID:Europe/Berlin
BEGIN:DAYLIGHT
TZOFFSETFROM:+0100
TZOFFSETTO:+0200
TZNAME:CEST
DTSTART:20230326T010000
END:DAYLIGHT
BEGIN:STANDARD
TZOFFSETFROM:+0200
TZOFFSETTO:+0100
TZNAME:CET
DTSTART:20231029T010000
END:STANDARD
BEGIN:DAYLIGHT
TZOFFSETFROM:+0100
TZOFFSETTO:+0200
TZNAME:CEST
DTSTART:20240331T010000
END:DAYLIGHT
BEGIN:STANDARD
TZOFFSETFROM:+0200
TZOFFSETTO:+0100
TZNAME:CET
DTSTART:20241027T010000
END:STANDARD
BEGIN:DAYLIGHT
TZOFFSETFROM:+0100
TZOFFSETTO:+0200
TZNAME:CEST
DTSTART:20250330T010000
END:DAYLIGHT
BEGIN:STANDARD
TZOFFSETFROM:+0200
TZOFFSETTO:+0100
TZNAME:CET
DTSTART:20251026T010000
END:STANDARD
END:VTIMEZONE
BEGIN:VEVENT
DTSTART;TZID=Europe/Berlin:20241021T150000
DTEND;TZID=Europe/Berlin:20241021T163000
DTSTAMP:20260425T122619
CREATED:20240826T134445Z
LAST-MODIFIED:20240904T142404Z
UID:10000013-1729522800-1729528200@landkreis-augsburg-kultur.de
SUMMARY:„Prinzessin Lilalucy und der Eisdrache“ –  Mitmachlesung mit Kamishibai I Neusäß-Steppach
DESCRIPTION:„Prinzessin Lilalucy und der Eisdrache“ – eine herzerwärmende Mitmachlesung für die ganze Familie am 21. Oktober 2024 in der Bücherei St. Raphael Steppach mit Liedern und Musikinstrumente zum Selbermachen.  \nDer arme König Theobald besitzt keine Schätze mehr\, denn diese wurden ihm vor langer Zeit von einem Räuber geklaut. Und nun bewacht sie ein funkelfrost-fauchender Eisdrache. Theobalds Tochter\, die pfiffige Prinzessin Lilalucy\, findet das überhaupt nicht lustig: Ohne Krone ist ihr Papa nun wirklich kein echter König! Also wagt sie ein echtes Prinzessinnen-Abenteuer\, um den Schatz zu retten. Auf ihrem Weg zum Drachen freundet sie sich mit fünf Tieren an\, die ebenso mutig sind wie sie und gerne Musik machen. Schließlich stehen alle vor der Drachenhöhle. Ob sie das Ungeheuer gemeinsam besiegen können? \nOhne Anmeldung \nZielgruppe: Kinder 3 bis 8 Jahre \n____________________________________________________________________________________________________________________ \nAbbildung: Buchcover „Prinzessin Lilalucy und der Eisdrache“\, © Andrea Böttcher und Horst Hildebrandt
URL:https://landkreis-augsburg-kultur.de/veranstaltung/mitmachlesung-steppach/
LOCATION:Bücherei St. Raphael Steppach\, Kolpingstraße 8 a\, Neusäß\, 86356
CATEGORIES:Familien,Kinder
ATTACH;FMTTYPE=image/jpeg:https://landkreis-augsburg-kultur.de/wp-content/uploads/2024/08/Buchcover-Prinzessin-Lilalucy.jpg
ORGANIZER;CN="B%C3%BCcherei St. Raphael Steppach":MAILTO:buecherei-steppach@t-online.de
END:VEVENT
END:VCALENDAR